BEGIN:VCALENDAR
VERSION:2.0
PRODID:-//Greater Sacramento Urban League - ECPv6.15.13//NONSGML v1.0//EN
CALSCALE:GREGORIAN
METHOD:PUBLISH
X-WR-CALNAME:Greater Sacramento Urban League
X-ORIGINAL-URL:https://www.gsul.org
X-WR-CALDESC:Events for Greater Sacramento Urban League
REFRESH-INTERVAL;VALUE=DURATION:PT1H
X-Robots-Tag:noindex
X-PUBLISHED-TTL:PT1H
BEGIN:VTIMEZONE
TZID:UTC
BEGIN:STANDARD
TZOFFSETFROM:+0000
TZOFFSETTO:+0000
TZNAME:UTC
DTSTART:20220101T000000
END:STANDARD
END:VTIMEZONE
BEGIN:VEVENT
DTSTART;TZID=UTC:20230624T100000
DTEND;TZID=UTC:20230624T120000
DTSTAMP:20260425T044127
CREATED:20230609T033417Z
LAST-MODIFIED:20230609T055725Z
UID:1912-1687600800-1687608000@www.gsul.org
SUMMARY:All About ADUs Resource Fair
DESCRIPTION:With inflation and housing costs on the rise throughout the state\, GSUL is providing homeowners with resources to fight displacement. \nAll About ADUs Resource Fair is where you can learn about Accessory Dwelling Units (ADUs) from the pros like YouTuber Ryan O’Connor. \nThe resource fair is Saturday\, June 24th\, from 10:00 A.M. to 12:00 P.M. at the Greater Sacramento Urban League Empowerment Center. \nRegister for free!  \n 
URL:https://www.gsul.org/event/all-about-adus-resource-fair/
LOCATION:GSUL Empowerment Center\, 3725 Marysville Blvd\, Sacramento\, CA\, 95835\, United States
ATTACH;FMTTYPE=image/png:https://www.gsul.org/wp-content/uploads/Website-All-About-ADUs-Resource-Fair.png
END:VEVENT
END:VCALENDAR