BEGIN:VCALENDAR
VERSION:2.0
PRODID:-//Greater Sacramento Urban League - ECPv6.15.13//NONSGML v1.0//EN
CALSCALE:GREGORIAN
METHOD:PUBLISH
X-WR-CALNAME:Greater Sacramento Urban League
X-ORIGINAL-URL:https://www.gsul.org
X-WR-CALDESC:Events for Greater Sacramento Urban League
REFRESH-INTERVAL;VALUE=DURATION:PT1H
X-Robots-Tag:noindex
X-PUBLISHED-TTL:PT1H
BEGIN:VTIMEZONE
TZID:UTC
BEGIN:STANDARD
TZOFFSETFROM:+0000
TZOFFSETTO:+0000
TZNAME:UTC
DTSTART:20220101T000000
END:STANDARD
END:VTIMEZONE
BEGIN:VEVENT
DTSTART;TZID=UTC:20230811T080000
DTEND;TZID=UTC:20230811T160000
DTSTAMP:20260425T042219
CREATED:20230603T022236Z
LAST-MODIFIED:20230811T170757Z
UID:1855-1691740800-1691769600@www.gsul.org
SUMMARY:Keys to Homeownership
DESCRIPTION:Keys to HomeOwnership is a live 8-hour homebuyer’s education course\, offered via Zoom (link will be sent prior to the class). This course provides home-buying insight for home-buyers\, who need to complete an 8-hour Homebuyer Education and Counseling Course. Greater Sacramento Urban League staff will walk you through the steps of purchasing a home including budgeting for a home\, credit checks\, the lending process\, homeowners insurance\, closing costs\, and much more. Upon completion of the class\, participants will be provided a homebuyer’s education certificate.\n\n\nNOTE: If you are completing this course as a requirement for a downpayment assistance program\, please double-check with your lender to make sure this course is accepted for your specific loan requirements. \nQuestions? Contact us at housing@gsul.org or 916-286-8651. \nREGISTER NOW
URL:https://www.gsul.org/event/keys-to-homeownership-3/
CATEGORIES:Housing
ATTACH;FMTTYPE=image/jpeg:https://www.gsul.org/wp-content/uploads/pexels-rdne-stock-project-8293778-scaled.jpg
END:VEVENT
END:VCALENDAR