BEGIN:VCALENDAR
VERSION:2.0
PRODID:-//Greater Sacramento Urban League - ECPv6.15.13//NONSGML v1.0//EN
CALSCALE:GREGORIAN
METHOD:PUBLISH
X-ORIGINAL-URL:https://www.gsul.org
X-WR-CALDESC:Events for Greater Sacramento Urban League
REFRESH-INTERVAL;VALUE=DURATION:PT1H
X-Robots-Tag:noindex
X-PUBLISHED-TTL:PT1H
BEGIN:VTIMEZONE
TZID:America/Los_Angeles
BEGIN:DAYLIGHT
TZOFFSETFROM:-0800
TZOFFSETTO:-0700
TZNAME:PDT
DTSTART:20220313T100000
END:DAYLIGHT
BEGIN:STANDARD
TZOFFSETFROM:-0700
TZOFFSETTO:-0800
TZNAME:PST
DTSTART:20221106T090000
END:STANDARD
BEGIN:DAYLIGHT
TZOFFSETFROM:-0800
TZOFFSETTO:-0700
TZNAME:PDT
DTSTART:20230312T100000
END:DAYLIGHT
BEGIN:STANDARD
TZOFFSETFROM:-0700
TZOFFSETTO:-0800
TZNAME:PST
DTSTART:20231105T090000
END:STANDARD
BEGIN:DAYLIGHT
TZOFFSETFROM:-0800
TZOFFSETTO:-0700
TZNAME:PDT
DTSTART:20240310T100000
END:DAYLIGHT
BEGIN:STANDARD
TZOFFSETFROM:-0700
TZOFFSETTO:-0800
TZNAME:PST
DTSTART:20241103T090000
END:STANDARD
END:VTIMEZONE
BEGIN:VEVENT
DTSTART;TZID=America/Los_Angeles:20231013T080000
DTEND;TZID=America/Los_Angeles:20231013T160000
DTSTAMP:20260423T055831
CREATED:20230829T182608Z
LAST-MODIFIED:20230919T220200Z
UID:2485-1697184000-1697212800@www.gsul.org
SUMMARY:Keys to Homeownership
DESCRIPTION:Keys to HomeOwnership is a live 8-hour homebuyer’s education course\, offered via Zoom (link will be sent prior to the class). This course provides home-buying insight for home-buyers\, who need to complete an 8-hour Homebuyer Education and Counseling Course. Greater Sacramento Urban League staff will walk you through the steps of purchasing a home including budgeting for a home\, credit checks\, the lending process\, homeowners insurance\, closing costs\, and much more. Upon completion of the class\, participants will be provided a homebuyer’s education certificate.\n\n\nNOTE: If you are completing this course as a requirement for a downpayment assistance program\, please double-check with your lender to make sure this course is accepted for your specific loan requirements. \nQuestions? Contact us at housing@gsul.org or 916-286-8651. \nREGISTER NOW
URL:https://www.gsul.org/event/keys-to-homeownership-5/
LOCATION:CA
CATEGORIES:Housing
ATTACH;FMTTYPE=image/jpeg:https://www.gsul.org/wp-content/uploads/pexels-rdne-stock-project-8293778-scaled.jpg
END:VEVENT
BEGIN:VEVENT
DTSTART;TZID=America/Los_Angeles:20231013T180000
DTEND;TZID=America/Los_Angeles:20231013T220000
DTSTAMP:20260423T055831
CREATED:20230809T214927Z
LAST-MODIFIED:20230919T200640Z
UID:2188-1697220000-1697234400@www.gsul.org
SUMMARY:Evening of Empowerment Awards Gala
DESCRIPTION:The Evening of Empowerment Awards Gala marks the return of our black-tie event and celebrates GSUL’s 55th anniversary. To attend or sponsor the event\, see the options below. For questions and more information\, contact sponsorships@gsul.org. \n  \nSPONSORSHIP OPPORTUNITIES \nPresenting Diamond Sponsor — $55\,000 \n\nPodium speaking opportunity and recognition from the podium\nExclusive “Presented by”  status on invitations\nBrand recognition on social media channels\, select marketing materials prior to the event and on GSUL website\nFull page color ad on an inside or back cover of event program \nProminent slideshow recognition at event\n(3) Premier Tables for 10 \n(10) VIP Reception Tickets\n\nPlatinum Sponsor — $30\,000 \n\nAward presentation and recognition from the podium \nSponsorship acknowledgement on invitations \nBrand recognition on social media channels\, select marketing materials prior to the  event and on GSUL website \nFull page color ad in event program \nProminent slideshow recognition at event\n(2) Premier Tables for 10 \n(8) VIP Reception Tickets\n\nGold Sponsor — $20\,000 \n\nRecognition from the podium \nBrand recognition on social media channels\, select marketing materials prior to the  event and on GSUL website \n1/2 page color ad in event program \nSlideshow recognition at event\n(1) Premier Table for 10 \n(6) VIP Reception Tickets\n\nSilver Sponsor — $15\,000 \n\nRecognition from the podium \nBrand recognition on social media channels\, select marketing materials prior to the  event and on GSUL website \n1/4 page color ad in event program \nSlideshow recognition at event\n(1) Table for 10 \n(6) VIP Reception Tickets\n\nBronze Sponsor — $10\,000 \n\nRecognition from the podium \nBrand recognition on social media channels and select marketing materials prior to the event \n1/4  page ad in event program \nSlideshow recognition at event\n(1) Table for 10 \n(4) VIP Reception Tickets\n\nEmpowerment Sponsor — $5\,500 \n\nBrand recognition on social media channels and select marketing materials prior to the  event \nSlideshow recognition at event\n(1) Table for 10 \n(2) VIP Reception Tickets\n\nTable Sponsor — $3\,000 \n\nLogo in event program \nSlideshow recognition at event\n(1) Table for 10 \n\nCLICK HERE TO SPONSOR\n\n  \nINDIVIDUAL TICKETS\n\nIndividual Ticket — $300\nIncludes one individual ticket to the gala at an unsponsored table. \nIndividual Ticket + VIP Reception — $400\nIncludes one individual ticket to the gala at an unsponsored table\, plus a ticket to the VIP reception.\n \n\nCLICK HERE TO PURCHASE
URL:https://www.gsul.org/event/evening-of-empowerment-awards-gala/
LOCATION:Hyatt Regency Sacramento\, 1209 L St\, Sacramento\, CA\, 95814\, United States
ATTACH;FMTTYPE=image/png:https://www.gsul.org/wp-content/uploads/2023-Gala-Logo-Header-02.png
END:VEVENT
END:VCALENDAR