BEGIN:VCALENDAR
VERSION:2.0
PRODID:-//Greater Sacramento Urban League - ECPv6.15.13//NONSGML v1.0//EN
CALSCALE:GREGORIAN
METHOD:PUBLISH
X-WR-CALNAME:Greater Sacramento Urban League
X-ORIGINAL-URL:https://www.gsul.org
X-WR-CALDESC:Events for Greater Sacramento Urban League
REFRESH-INTERVAL;VALUE=DURATION:PT1H
X-Robots-Tag:noindex
X-PUBLISHED-TTL:PT1H
BEGIN:VTIMEZONE
TZID:America/Los_Angeles
BEGIN:DAYLIGHT
TZOFFSETFROM:-0800
TZOFFSETTO:-0700
TZNAME:PDT
DTSTART:20230312T100000
END:DAYLIGHT
BEGIN:STANDARD
TZOFFSETFROM:-0700
TZOFFSETTO:-0800
TZNAME:PST
DTSTART:20231105T090000
END:STANDARD
BEGIN:DAYLIGHT
TZOFFSETFROM:-0800
TZOFFSETTO:-0700
TZNAME:PDT
DTSTART:20240310T100000
END:DAYLIGHT
BEGIN:STANDARD
TZOFFSETFROM:-0700
TZOFFSETTO:-0800
TZNAME:PST
DTSTART:20241103T090000
END:STANDARD
BEGIN:DAYLIGHT
TZOFFSETFROM:-0800
TZOFFSETTO:-0700
TZNAME:PDT
DTSTART:20250309T100000
END:DAYLIGHT
BEGIN:STANDARD
TZOFFSETFROM:-0700
TZOFFSETTO:-0800
TZNAME:PST
DTSTART:20251102T090000
END:STANDARD
END:VTIMEZONE
BEGIN:VEVENT
DTSTART;TZID=America/Los_Angeles:20240108T130000
DTEND;TZID=America/Los_Angeles:20240108T140000
DTSTAMP:20260421T031520
CREATED:20240103T195838Z
LAST-MODIFIED:20240103T200612Z
UID:3234-1704718800-1704722400@www.gsul.org
SUMMARY:Golden1 Credit Union - 10 Steps to Financial Success
DESCRIPTION:We all measure financial success differently\, but all paths to get there require discipline and goals. Join Golden1 Credit Union for 10 Steps to Financial Steps\, a free community workshop designed to teach you ways to financial control – including developing a spending plan\, creating objectives\, weighing insurance needs\, and other tools that will help get on the road to personal financial success.
URL:https://www.gsul.org/event/golden1-credit-union-10-steps-to-financial-success/
LOCATION:GSUL Empowerment Center\, 3725 Marysville Blvd\, Sacramento\, CA\, 95835\, United States
END:VEVENT
END:VCALENDAR