BEGIN:VCALENDAR
VERSION:2.0
PRODID:-//Greater Sacramento Urban League - ECPv6.15.13//NONSGML v1.0//EN
CALSCALE:GREGORIAN
METHOD:PUBLISH
X-ORIGINAL-URL:https://www.gsul.org
X-WR-CALDESC:Events for Greater Sacramento Urban League
REFRESH-INTERVAL;VALUE=DURATION:PT1H
X-Robots-Tag:noindex
X-PUBLISHED-TTL:PT1H
BEGIN:VTIMEZONE
TZID:America/Los_Angeles
BEGIN:DAYLIGHT
TZOFFSETFROM:-0800
TZOFFSETTO:-0700
TZNAME:PDT
DTSTART:20230312T100000
END:DAYLIGHT
BEGIN:STANDARD
TZOFFSETFROM:-0700
TZOFFSETTO:-0800
TZNAME:PST
DTSTART:20231105T090000
END:STANDARD
BEGIN:DAYLIGHT
TZOFFSETFROM:-0800
TZOFFSETTO:-0700
TZNAME:PDT
DTSTART:20240310T100000
END:DAYLIGHT
BEGIN:STANDARD
TZOFFSETFROM:-0700
TZOFFSETTO:-0800
TZNAME:PST
DTSTART:20241103T090000
END:STANDARD
BEGIN:DAYLIGHT
TZOFFSETFROM:-0800
TZOFFSETTO:-0700
TZNAME:PDT
DTSTART:20250309T100000
END:DAYLIGHT
BEGIN:STANDARD
TZOFFSETFROM:-0700
TZOFFSETTO:-0800
TZNAME:PST
DTSTART:20251102T090000
END:STANDARD
END:VTIMEZONE
BEGIN:VEVENT
DTSTART;TZID=America/Los_Angeles:20240110T180000
DTEND;TZID=America/Los_Angeles:20240110T190000
DTSTAMP:20260425T045221
CREATED:20240103T200228Z
LAST-MODIFIED:20240103T200228Z
UID:3236-1704909600-1704913200@www.gsul.org
SUMMARY:Golden1 Credit Union - Building a Better Budget
DESCRIPTION:Everyone wants control over their financial lives\, but how do we get it? In one word: budget. It’s the most powerful weapon to get a more secure future. Join Golden1 Credit Union for Building a Better Budget designed to help you identify your short – and long-term goals and learn how to design realistic spending and saving plans to reach those objectives\, including options for getting out of debt (and staying there).
URL:https://www.gsul.org/event/golden1-credit-union-building-a-better-budget/
LOCATION:GSUL Empowerment Center\, 3725 Marysville Blvd\, Sacramento\, CA\, 95835\, United States
END:VEVENT
END:VCALENDAR