BEGIN:VCALENDAR
VERSION:2.0
PRODID:-//Greater Sacramento Urban League - ECPv6.15.13//NONSGML v1.0//EN
CALSCALE:GREGORIAN
METHOD:PUBLISH
X-WR-CALNAME:Greater Sacramento Urban League
X-ORIGINAL-URL:https://www.gsul.org
X-WR-CALDESC:Events for Greater Sacramento Urban League
REFRESH-INTERVAL;VALUE=DURATION:PT1H
X-Robots-Tag:noindex
X-PUBLISHED-TTL:PT1H
BEGIN:VTIMEZONE
TZID:America/Los_Angeles
BEGIN:DAYLIGHT
TZOFFSETFROM:-0800
TZOFFSETTO:-0700
TZNAME:PDT
DTSTART:20230312T100000
END:DAYLIGHT
BEGIN:STANDARD
TZOFFSETFROM:-0700
TZOFFSETTO:-0800
TZNAME:PST
DTSTART:20231105T090000
END:STANDARD
BEGIN:DAYLIGHT
TZOFFSETFROM:-0800
TZOFFSETTO:-0700
TZNAME:PDT
DTSTART:20240310T100000
END:DAYLIGHT
BEGIN:STANDARD
TZOFFSETFROM:-0700
TZOFFSETTO:-0800
TZNAME:PST
DTSTART:20241103T090000
END:STANDARD
BEGIN:DAYLIGHT
TZOFFSETFROM:-0800
TZOFFSETTO:-0700
TZNAME:PDT
DTSTART:20250309T100000
END:DAYLIGHT
BEGIN:STANDARD
TZOFFSETFROM:-0700
TZOFFSETTO:-0800
TZNAME:PST
DTSTART:20251102T090000
END:STANDARD
END:VTIMEZONE
BEGIN:VEVENT
DTSTART;TZID=America/Los_Angeles:20240116T130000
DTEND;TZID=America/Los_Angeles:20240116T150000
DTSTAMP:20260423T030307
CREATED:20231219T192841Z
LAST-MODIFIED:20231219T192841Z
UID:3213-1705410000-1705417200@www.gsul.org
SUMMARY:Golden1 Credit Union Banking Basics
DESCRIPTION:One of the first steps in effectively managing your finances is learning how to master your bank accounts. Join Golden1 Credit Union for Banking Basics\, a free community workshop\, designed to help you learn how to manage your bank accounts\, improve your finances\, and more. In this workshop\, we will discuss the differences between banks and credit unions\, provide an overview of savings and checking accounts\, and explore the fundamentals of online and mobile banking. \nFor more information\, contact: Daniela Alvarado at financialwellness@golden1.com.  \n  \n 
URL:https://www.gsul.org/event/golden1-credit-union-banking-basics/
LOCATION:GSUL Empowerment Center\, 3725 Marysville Blvd\, Sacramento\, CA\, 95835\, United States
ATTACH;FMTTYPE=image/png:https://www.gsul.org/wp-content/uploads/Website-headers-finance.png
END:VEVENT
END:VCALENDAR