BEGIN:VCALENDAR
VERSION:2.0
PRODID:-//Greater Sacramento Urban League - ECPv6.15.13//NONSGML v1.0//EN
CALSCALE:GREGORIAN
METHOD:PUBLISH
X-WR-CALNAME:Greater Sacramento Urban League
X-ORIGINAL-URL:https://www.gsul.org
X-WR-CALDESC:Events for Greater Sacramento Urban League
REFRESH-INTERVAL;VALUE=DURATION:PT1H
X-Robots-Tag:noindex
X-PUBLISHED-TTL:PT1H
BEGIN:VTIMEZONE
TZID:America/Los_Angeles
BEGIN:DAYLIGHT
TZOFFSETFROM:-0800
TZOFFSETTO:-0700
TZNAME:PDT
DTSTART:20230312T100000
END:DAYLIGHT
BEGIN:STANDARD
TZOFFSETFROM:-0700
TZOFFSETTO:-0800
TZNAME:PST
DTSTART:20231105T090000
END:STANDARD
BEGIN:DAYLIGHT
TZOFFSETFROM:-0800
TZOFFSETTO:-0700
TZNAME:PDT
DTSTART:20240310T100000
END:DAYLIGHT
BEGIN:STANDARD
TZOFFSETFROM:-0700
TZOFFSETTO:-0800
TZNAME:PST
DTSTART:20241103T090000
END:STANDARD
BEGIN:DAYLIGHT
TZOFFSETFROM:-0800
TZOFFSETTO:-0700
TZNAME:PDT
DTSTART:20250309T100000
END:DAYLIGHT
BEGIN:STANDARD
TZOFFSETFROM:-0700
TZOFFSETTO:-0800
TZNAME:PST
DTSTART:20251102T090000
END:STANDARD
END:VTIMEZONE
BEGIN:VEVENT
DTSTART;TZID=America/Los_Angeles:20240127T100000
DTEND;TZID=America/Los_Angeles:20240127T120000
DTSTAMP:20260423T014335
CREATED:20240109T181813Z
LAST-MODIFIED:20240109T181813Z
UID:3273-1706349600-1706356800@www.gsul.org
SUMMARY:Sacramento Mayoral Candidates Forum hosted by Sac Kids First
DESCRIPTION:Join us on Jan 27th\, 10am-12pm at Hiram Johnson HS Auditorium for the Sacramento Mayoral Candidates Forum presented by Sac Kids First.  \nIn March 2024\, Sacramento voters will get to vote in the primary election for the next Mayor of our City. We want to know\, are these candidates FOR KIDS or are THEY KIDDING? \nYou don’t want to miss this! Register now for one of our most anticipated events of the year! \nDOORS OPEN @ 9:45am \nEVENT BEGINS @ 10:00am \nWhat to expect: \n\nAll candidates have been contacted: CONFIRMED TO DATE: Dr. Flojaune “Flo” Cofer\, Kevin McCarty\, Steve Hansen\, Dr. Richard Pan\, Jose Antonio Avina II\, Julius M. Engel\nRefreshments and small snacks will be provided ahead of the event start time\nA ceremonial opening performed by Native youth\nInformation and updates about the Sacramento Children’s Fund + how to stay involved\nYouth and young adult speakers\nThe opportunity to submit questions for the Community Q&A\n& so much more!\n\nIf you have any questions please contact : \nMonica Ruelas Mares\, Sac Kids First Coordinator \nmonica@youth-forward.org \n(916) 320-5220 \nREGISTER NOW
URL:https://www.gsul.org/event/sacramento-mayoral-candidates-forum-hosted-by-sac-kids-first/
LOCATION:Hiram Johnson High School\, 6879 14th Avenue\, Sacramento\, CA\, 95820\, United States
ATTACH;FMTTYPE=image/jpeg:https://www.gsul.org/wp-content/uploads/sackids_1080x1080_forum32-3.jpg
END:VEVENT
BEGIN:VEVENT
DTSTART;TZID=America/Los_Angeles:20240118T180000
DTEND;TZID=America/Los_Angeles:20240118T190000
DTSTAMP:20260423T014335
CREATED:20240103T201639Z
LAST-MODIFIED:20240103T201639Z
UID:3248-1705600800-1705604400@www.gsul.org
SUMMARY:Golden1 Credit Union - World of Credit
DESCRIPTION:Join Golden1 Credit Union for World of Credit\, you will learn about credit bureaus and credit scoring as well as how to improve your credit score. Find out how to dispute credit report inaccuracies and deal with identity theft and fraud.
URL:https://www.gsul.org/event/golden1-credit-union-world-of-credit/
LOCATION:GSUL Empowerment Center\, 3725 Marysville Blvd\, Sacramento\, CA\, 95835\, United States
END:VEVENT
END:VCALENDAR