BEGIN:VCALENDAR
VERSION:2.0
PRODID:-//Greater Sacramento Urban League - ECPv6.15.13//NONSGML v1.0//EN
CALSCALE:GREGORIAN
METHOD:PUBLISH
X-WR-CALNAME:Greater Sacramento Urban League
X-ORIGINAL-URL:https://www.gsul.org
X-WR-CALDESC:Events for Greater Sacramento Urban League
REFRESH-INTERVAL;VALUE=DURATION:PT1H
X-Robots-Tag:noindex
X-PUBLISHED-TTL:PT1H
BEGIN:VTIMEZONE
TZID:America/Los_Angeles
BEGIN:DAYLIGHT
TZOFFSETFROM:-0800
TZOFFSETTO:-0700
TZNAME:PDT
DTSTART:20230312T100000
END:DAYLIGHT
BEGIN:STANDARD
TZOFFSETFROM:-0700
TZOFFSETTO:-0800
TZNAME:PST
DTSTART:20231105T090000
END:STANDARD
BEGIN:DAYLIGHT
TZOFFSETFROM:-0800
TZOFFSETTO:-0700
TZNAME:PDT
DTSTART:20240310T100000
END:DAYLIGHT
BEGIN:STANDARD
TZOFFSETFROM:-0700
TZOFFSETTO:-0800
TZNAME:PST
DTSTART:20241103T090000
END:STANDARD
BEGIN:DAYLIGHT
TZOFFSETFROM:-0800
TZOFFSETTO:-0700
TZNAME:PDT
DTSTART:20250309T100000
END:DAYLIGHT
BEGIN:STANDARD
TZOFFSETFROM:-0700
TZOFFSETTO:-0800
TZNAME:PST
DTSTART:20251102T090000
END:STANDARD
END:VTIMEZONE
BEGIN:VTIMEZONE
TZID:UTC
BEGIN:STANDARD
TZOFFSETFROM:+0000
TZOFFSETTO:+0000
TZNAME:UTC
DTSTART:20230101T000000
END:STANDARD
END:VTIMEZONE
BEGIN:VEVENT
DTSTART;TZID=America/Los_Angeles:20240113T120000
DTEND;TZID=America/Los_Angeles:20240113T130000
DTSTAMP:20260423T030532
CREATED:20240103T200535Z
LAST-MODIFIED:20240103T200535Z
UID:3238-1705147200-1705150800@www.gsul.org
SUMMARY:Golden1 Credit Union - Becoming a Homeowner
DESCRIPTION:Homeownership starts well before the contracts are signed – preparation is one of the keys to a smooth home-buying process. Join Golden1 Credit Union for Becoming a Homeowner\, where you will learn about all major pre-purchase topics such as budgeting\, the down payment\, credit reports\, debt-to-income ratios\, and the mortgage lending process.
URL:https://www.gsul.org/event/golden1-credit-union-becoming-a-homeowner/
LOCATION:GSUL Empowerment Center\, 3725 Marysville Blvd\, Sacramento\, CA\, 95835\, United States
END:VEVENT
BEGIN:VEVENT
DTSTART;TZID=UTC:20240118T180000
DTEND;TZID=UTC:20240118T193000
DTSTAMP:20260423T030532
CREATED:20231127T235650Z
LAST-MODIFIED:20240910T212415Z
UID:3113-1705600800-1705606200@www.gsul.org
SUMMARY:Cut to the Chase: Crown Edition – South Sacramento
DESCRIPTION:Cut to the Chase: Crown Edition is a monthly meet-up for Black women to unite and discuss their everyday challenges\, successes\, and life experiences. We invite Black women to join us for encouragement\, counseling\, and support in a small group setting with licensed mental health professionals. \nSouth Sacramento meet-ups are held every third Thursday of the month from 6:00 p.m. – 7:30 p.m. at DreamGirls Hair Salon (9090 Elk Grove Blvd\, Elk Grove\, CA 95624). \nDates include: \n\n\n\nJanuary 18\, 2024\nFebruary 15\, 2024  \nMarch 21\, 2024 \nApril 18\, 2024 \nMay 16\, 2024\nJune 20\, 2024 \nAugust 15\, 2024\nSeptember 19\, 2024\nOctober 18\, 2024\n\n\n\nFor questions\, contact info@gsul.org
URL:https://www.gsul.org/event/cut-to-the-chase-crown-edition-south-sacramento/
LOCATION:DreamGirls Hair Salon\, 9090 Elk Grove Blvd\, Elk Grove\, 95624\, United States
CATEGORIES:Cut the Chase Program
ATTACH;FMTTYPE=image/png:https://www.gsul.org/wp-content/uploads/Event-cover-Website-1920-×-1080-px-1.png
END:VEVENT
END:VCALENDAR