BEGIN:VCALENDAR
VERSION:2.0
PRODID:-//Greater Sacramento Urban League - ECPv6.15.13//NONSGML v1.0//EN
CALSCALE:GREGORIAN
METHOD:PUBLISH
X-WR-CALNAME:Greater Sacramento Urban League
X-ORIGINAL-URL:https://www.gsul.org
X-WR-CALDESC:Events for Greater Sacramento Urban League
REFRESH-INTERVAL;VALUE=DURATION:PT1H
X-Robots-Tag:noindex
X-PUBLISHED-TTL:PT1H
BEGIN:VTIMEZONE
TZID:America/Los_Angeles
BEGIN:DAYLIGHT
TZOFFSETFROM:-0800
TZOFFSETTO:-0700
TZNAME:PDT
DTSTART:20230312T100000
END:DAYLIGHT
BEGIN:STANDARD
TZOFFSETFROM:-0700
TZOFFSETTO:-0800
TZNAME:PST
DTSTART:20231105T090000
END:STANDARD
BEGIN:DAYLIGHT
TZOFFSETFROM:-0800
TZOFFSETTO:-0700
TZNAME:PDT
DTSTART:20240310T100000
END:DAYLIGHT
BEGIN:STANDARD
TZOFFSETFROM:-0700
TZOFFSETTO:-0800
TZNAME:PST
DTSTART:20241103T090000
END:STANDARD
BEGIN:DAYLIGHT
TZOFFSETFROM:-0800
TZOFFSETTO:-0700
TZNAME:PDT
DTSTART:20250309T100000
END:DAYLIGHT
BEGIN:STANDARD
TZOFFSETFROM:-0700
TZOFFSETTO:-0800
TZNAME:PST
DTSTART:20251102T090000
END:STANDARD
END:VTIMEZONE
BEGIN:VEVENT
DTSTART;TZID=America/Los_Angeles:20240824T110000
DTEND;TZID=America/Los_Angeles:20240824T160000
DTSTAMP:20260424T111553
CREATED:20240812T232400Z
LAST-MODIFIED:20240812T232414Z
UID:3478-1724497200-1724515200@www.gsul.org
SUMMARY:Community Block Party
DESCRIPTION:Looking to celebrate the end of summer? Join us on Saturday\, August 24th from 11:00 A.M. to 4:00 P.M. at Fourth Avenue Park. There will be activities for all ages! Music\, delicious food and games all in one place! Come out to meet your neighbors and make new friends\, learn about local organizations and initiatives and celebrate the vibrant diversity of our community. Admission is FREE! 
URL:https://www.gsul.org/event/community-block-party-2/
LOCATION:Fourth Avenue Park\, 4040 4th Ave.\, Sacramento\, CA\, 95817\, United States
END:VEVENT
END:VCALENDAR