BEGIN:VCALENDAR
VERSION:2.0
PRODID:-//Greater Sacramento Urban League - ECPv6.15.13//NONSGML v1.0//EN
CALSCALE:GREGORIAN
METHOD:PUBLISH
X-WR-CALNAME:Greater Sacramento Urban League
X-ORIGINAL-URL:https://www.gsul.org
X-WR-CALDESC:Events for Greater Sacramento Urban League
REFRESH-INTERVAL;VALUE=DURATION:PT1H
X-Robots-Tag:noindex
X-PUBLISHED-TTL:PT1H
BEGIN:VTIMEZONE
TZID:America/Los_Angeles
BEGIN:DAYLIGHT
TZOFFSETFROM:-0800
TZOFFSETTO:-0700
TZNAME:PDT
DTSTART:20230312T100000
END:DAYLIGHT
BEGIN:STANDARD
TZOFFSETFROM:-0700
TZOFFSETTO:-0800
TZNAME:PST
DTSTART:20231105T090000
END:STANDARD
BEGIN:DAYLIGHT
TZOFFSETFROM:-0800
TZOFFSETTO:-0700
TZNAME:PDT
DTSTART:20240310T100000
END:DAYLIGHT
BEGIN:STANDARD
TZOFFSETFROM:-0700
TZOFFSETTO:-0800
TZNAME:PST
DTSTART:20241103T090000
END:STANDARD
BEGIN:DAYLIGHT
TZOFFSETFROM:-0800
TZOFFSETTO:-0700
TZNAME:PDT
DTSTART:20250309T100000
END:DAYLIGHT
BEGIN:STANDARD
TZOFFSETFROM:-0700
TZOFFSETTO:-0800
TZNAME:PST
DTSTART:20251102T090000
END:STANDARD
END:VTIMEZONE
BEGIN:VEVENT
DTSTART;TZID=America/Los_Angeles:20241016T173000
DTEND;TZID=America/Los_Angeles:20241016T193000
DTSTAMP:20260424T074808
CREATED:20240930T185114Z
LAST-MODIFIED:20241016T193713Z
UID:3615-1729099800-1729107000@www.gsul.org
SUMMARY:Black Boys 2 Men
DESCRIPTION:Join GSUL as we host our next session of Black Boys 2 Men on Wednesday\, October 16th from 5:30 p.m. – 7:30 p.m. at GSUL Youth & Families Center. It’s a safe space for boys ages 13 and up to discuss their concerns. This session will discuss concerns and how to be civically engaged. This is a FREE event. \nREGISTER NOW\n 
URL:https://www.gsul.org/event/black-boys-2-men/
LOCATION:GSUL Youth & Families Center\, 2331 Alhambra Blvd.\, Sacramento\, CA\, 95817\, United States
ATTACH;FMTTYPE=image/png:https://www.gsul.org/wp-content/uploads/14.png
END:VEVENT
END:VCALENDAR