BEGIN:VCALENDAR
VERSION:2.0
PRODID:-//Greater Sacramento Urban League - ECPv6.15.13//NONSGML v1.0//EN
CALSCALE:GREGORIAN
METHOD:PUBLISH
X-ORIGINAL-URL:https://www.gsul.org
X-WR-CALDESC:Events for Greater Sacramento Urban League
REFRESH-INTERVAL;VALUE=DURATION:PT1H
X-Robots-Tag:noindex
X-PUBLISHED-TTL:PT1H
BEGIN:VTIMEZONE
TZID:America/Los_Angeles
BEGIN:DAYLIGHT
TZOFFSETFROM:-0800
TZOFFSETTO:-0700
TZNAME:PDT
DTSTART:20230312T100000
END:DAYLIGHT
BEGIN:STANDARD
TZOFFSETFROM:-0700
TZOFFSETTO:-0800
TZNAME:PST
DTSTART:20231105T090000
END:STANDARD
BEGIN:DAYLIGHT
TZOFFSETFROM:-0800
TZOFFSETTO:-0700
TZNAME:PDT
DTSTART:20240310T100000
END:DAYLIGHT
BEGIN:STANDARD
TZOFFSETFROM:-0700
TZOFFSETTO:-0800
TZNAME:PST
DTSTART:20241103T090000
END:STANDARD
BEGIN:DAYLIGHT
TZOFFSETFROM:-0800
TZOFFSETTO:-0700
TZNAME:PDT
DTSTART:20250309T100000
END:DAYLIGHT
BEGIN:STANDARD
TZOFFSETFROM:-0700
TZOFFSETTO:-0800
TZNAME:PST
DTSTART:20251102T090000
END:STANDARD
END:VTIMEZONE
BEGIN:VEVENT
DTSTART;TZID=America/Los_Angeles:20241120T173000
DTEND;TZID=America/Los_Angeles:20241120T193000
DTSTAMP:20260424T123328
CREATED:20241017T214623Z
LAST-MODIFIED:20241115T204544Z
UID:3639-1732123800-1732131000@www.gsul.org
SUMMARY:Feasts\, Friends\, & Festive Friendsgiving
DESCRIPTION:Black Boys 2 Men and Black Girls Heal invite you for Feasts\, Friends\, & Festive Friendsgiving on Wednesday\, November 20th from 5:30 p.m. – 7:30 p.m. End of the year celebration for the youth groups with dinner & games. \nREGISTER NOW
URL:https://www.gsul.org/event/feasts-friends-festive-friendsgiving-1/
ATTACH;FMTTYPE=image/jpeg:https://www.gsul.org/wp-content/uploads/group-of-youth-1-e1679497569285.jpg
END:VEVENT
END:VCALENDAR