BEGIN:VCALENDAR
VERSION:2.0
PRODID:-//Greater Sacramento Urban League - ECPv6.15.13//NONSGML v1.0//EN
CALSCALE:GREGORIAN
METHOD:PUBLISH
X-ORIGINAL-URL:https://www.gsul.org
X-WR-CALDESC:Events for Greater Sacramento Urban League
REFRESH-INTERVAL;VALUE=DURATION:PT1H
X-Robots-Tag:noindex
X-PUBLISHED-TTL:PT1H
BEGIN:VTIMEZONE
TZID:America/Los_Angeles
BEGIN:DAYLIGHT
TZOFFSETFROM:-0800
TZOFFSETTO:-0700
TZNAME:PDT
DTSTART:20240310T100000
END:DAYLIGHT
BEGIN:STANDARD
TZOFFSETFROM:-0700
TZOFFSETTO:-0800
TZNAME:PST
DTSTART:20241103T090000
END:STANDARD
BEGIN:DAYLIGHT
TZOFFSETFROM:-0800
TZOFFSETTO:-0700
TZNAME:PDT
DTSTART:20250309T100000
END:DAYLIGHT
BEGIN:STANDARD
TZOFFSETFROM:-0700
TZOFFSETTO:-0800
TZNAME:PST
DTSTART:20251102T090000
END:STANDARD
BEGIN:DAYLIGHT
TZOFFSETFROM:-0800
TZOFFSETTO:-0700
TZNAME:PDT
DTSTART:20260308T100000
END:DAYLIGHT
BEGIN:STANDARD
TZOFFSETFROM:-0700
TZOFFSETTO:-0800
TZNAME:PST
DTSTART:20261101T090000
END:STANDARD
END:VTIMEZONE
BEGIN:VEVENT
DTSTART;TZID=America/Los_Angeles:20250322T190000
DTEND;TZID=America/Los_Angeles:20250322T220000
DTSTAMP:20260423T003641
CREATED:20240905T000416Z
LAST-MODIFIED:20241126T204548Z
UID:3483-1742670000-1742680800@www.gsul.org
SUMMARY:Evening of Empowerment Awards Gala 2025
DESCRIPTION:The Evening of Empowerment Awards Gala is GSUL’s largest annual fundraising event. This black-tie event brings together over 500 movers and shakers from across the Greater Sacramento region for a fun evening of inspiration\, entertainment and a celebration of diversity\, equity\, and inclusion. To attend or sponsor the event\, see the options below. For questions and more information\, contact sponsorships@gsul.org. \n  \nSPONSORSHIP OPPORTUNITIES \nPresenting Diamond Sponsor — $100\,000 \n\nYour name/logo is listed in all promotional materials as the presenting sponsor.\n3-minute remarks from podium\nYour name/logo displayed on step and repeat at entrance of gala event. \n30-second video ad spot during program.\nYour name/logo included on repeating slideshow and displayed on venue screens.\nYour name/logo on social media and newsletter content promoting gala.\n(10) VIP Reception tickets reserved seats with unique access to honorees and keynote speaker.\n(3) Reserved Table with each table includes 10 seats.\n2-page color Ad on print advertisement included in Souvenir AD Booklet provided to each attendee.\n\nPlatinum Sponsor — $75\,000 \n\nYour name/logo displayed on step and repeat at entrance of gala event. \n30-second video ad spot during program.\nYour name/logo included on repeating slideshow and displayed on venue screens.\nYour name/logo on social media and newsletter content promoting gala.\n(8) VIP Reception tickets reserved seats with unique access to honorees and keynote speaker.\n(2) Reserved Table with each table includes 10 seats.\n1-page color Ad on print advertisement included in Souvenir AD Booklet provided to each attendee.\n\nGold Sponsor — $35\,000 \n\nYour name/logo displayed on step and repeat at entrance of gala event. \n30-second video ad spot during program.\nYour name/logo included on repeating slideshow and displayed on venue screens.\nYour name/logo on social media and newsletter content promoting gala.\n(6) VIP Reception tickets reserved seats with unique access to honorees and keynote speaker.\n(1) Reserved Table with each table includes 10 seats.\nHalf-page color Ad on print advertisement included in Souvenir AD Booklet provided to each attendee.\n\nSilver Sponsor — $25\,000 \n\nYour name/logo displayed on step and repeat at entrance of gala event. \n30-second video ad spot during program.\nYour name/logo included on repeating slideshow and displayed on venue screens.\nYour name/logo on social media and newsletter content promoting gala.\n(6) VIP Reception tickets reserved seats with unique access to honorees and keynote speaker.\n(1) Reserved Table with each table includes 10 seats.\nQuarter-page color Ad on print advertisement included in Souvenir AD Booklet provided to each attendee.\n\nBronze Sponsor — $15\,000 \n\nYour name/logo included on repeating slideshow and displayed on venue screens.\nYour name/logo on social media and newsletter content promoting gala.\n(4) VIP Reception tickets reserved seats with unique access to honorees and keynote speaker.\n(1) Reserved Table with each table includes 10 seats.\nQuarter-page color Ad on print advertisement included in Souvenir AD Booklet provided to each attendee.\n\nEmpowerment Sponsor — $5\,000 \n\nYour name/logo included on repeating slideshow and displayed on venue screens.\nYour name/logo on social media and newsletter content promoting gala.\n(2) VIP Reception tickets reserved seats with unique access to honorees and keynote speaker.\n(1) Reserved Table with each table includes 10 seats.\n\nCLICK HERE TO Sponsor\n  \nINDIVIDUAL TICKETS \n\n\nIndividual Ticket — $300\nIncludes one individual ticket to the gala at an unsponsored table. \nIndividual Ticket + VIP Reception — $400\nIncludes one individual ticket to the gala at an unsponsored table\, plus a ticket to the VIP reception. \n\n\nCLICK HERE TO PURCHASE
URL:https://www.gsul.org/event/evening-of-empowerment-awards-gala-2025/
LOCATION:Safe Credit Union Convention Center\, 1401 K St\, Sacramento\, CA\, 95814\, United States
ATTACH;FMTTYPE=image/png:https://www.gsul.org/wp-content/uploads/GSUL_-Social-Graphics_1920-x1080-1.png
END:VEVENT
END:VCALENDAR