BEGIN:VCALENDAR
VERSION:2.0
PRODID:-//Greater Sacramento Urban League - ECPv6.15.13//NONSGML v1.0//EN
CALSCALE:GREGORIAN
METHOD:PUBLISH
X-ORIGINAL-URL:https://www.gsul.org
X-WR-CALDESC:Events for Greater Sacramento Urban League
REFRESH-INTERVAL;VALUE=DURATION:PT1H
X-Robots-Tag:noindex
X-PUBLISHED-TTL:PT1H
BEGIN:VTIMEZONE
TZID:America/Los_Angeles
BEGIN:DAYLIGHT
TZOFFSETFROM:-0800
TZOFFSETTO:-0700
TZNAME:PDT
DTSTART:20240310T100000
END:DAYLIGHT
BEGIN:STANDARD
TZOFFSETFROM:-0700
TZOFFSETTO:-0800
TZNAME:PST
DTSTART:20241103T090000
END:STANDARD
BEGIN:DAYLIGHT
TZOFFSETFROM:-0800
TZOFFSETTO:-0700
TZNAME:PDT
DTSTART:20250309T100000
END:DAYLIGHT
BEGIN:STANDARD
TZOFFSETFROM:-0700
TZOFFSETTO:-0800
TZNAME:PST
DTSTART:20251102T090000
END:STANDARD
BEGIN:DAYLIGHT
TZOFFSETFROM:-0800
TZOFFSETTO:-0700
TZNAME:PDT
DTSTART:20260308T100000
END:DAYLIGHT
BEGIN:STANDARD
TZOFFSETFROM:-0700
TZOFFSETTO:-0800
TZNAME:PST
DTSTART:20261101T090000
END:STANDARD
END:VTIMEZONE
BEGIN:VTIMEZONE
TZID:UTC
BEGIN:STANDARD
TZOFFSETFROM:+0000
TZOFFSETTO:+0000
TZNAME:UTC
DTSTART:20240101T000000
END:STANDARD
END:VTIMEZONE
BEGIN:VEVENT
DTSTART;TZID=America/Los_Angeles:20250417T100000
DTEND;TZID=America/Los_Angeles:20250417T150000
DTSTAMP:20260422T092326
CREATED:20250312T205901Z
LAST-MODIFIED:20250312T212150Z
UID:3759-1744884000-1744902000@www.gsul.org
SUMMARY:Youth Summer Job Fair
DESCRIPTION:Join us and SETA on Thursday\, April 17th from 10 AM to 3 PM at the GSUL Empowerment Center\, 3725 Marysville Blvd\, Sacramento. This is your chance to connect with top employers who are hiring right now for jobs and internships! At the fair\, you’ll get hands-on help with your resume\, score expert interview tips\, and learn about career paths that fit your vibe. And because we’ve got your back\, enjoy a free lunch through our Food for All initiative! \nREGISTER NOW\nResume Workshops \n\nMarch 25\nApril 8\nApril 15\n\nMock Interview \n\nMarch 27\nApril 10
URL:https://www.gsul.org/event/youth-summer-job-fair-3/
LOCATION:GSUL Empowerment Center\, 3725 Marysville Blvd\, Sacramento\, CA\, 95835\, United States
CATEGORIES:Job and Career Center
ATTACH;FMTTYPE=image/png:https://www.gsul.org/wp-content/uploads/Event-cover-Website-1920-×-1080-px-2.png
END:VEVENT
BEGIN:VEVENT
DTSTART;TZID=UTC:20251016T180000
DTEND;TZID=UTC:20251016T193000
DTSTAMP:20260422T092326
CREATED:20241219T233835Z
LAST-MODIFIED:20251013T205544Z
UID:3687-1760637600-1760643000@www.gsul.org
SUMMARY:Cut to the Chase: Crown Edition – South Sacramento
DESCRIPTION:Cut to the Chase: Crown Edition is a monthly meet-up for Black women to unite and discuss their everyday challenges\, successes\, and life experiences. We invite Black women to join us for encouragement\, counseling\, and support in a small group setting with licensed mental health professionals. \nSouth Sacramento meet-ups are held every third Thursday of the month from 6:00 p.m. – 7:30 p.m. at DreamGirls Hair Salon (9090 Elk Grove Blvd\, Elk Grove\, CA 95624). \nDates include: \n\n\n\nFebruary 20\, 2025\nMarch 20\, 2025\nApril 17\, 2025\nMay 15\, 2025\nJune 19\, 2025\nAugust 21\, 2025\nSeptember 18\, 2025\nOctober 16\, 2025\n\n\n\nFor questions\, contact info@gsul.org
URL:https://www.gsul.org/event/cut-to-the-chase-crown-edition-south-sacramento-3/
LOCATION:DreamGirls Hair Salon\, 9090 Elk Grove Blvd\, Elk Grove\, 95624\, United States
CATEGORIES:Cut the Chase Program
ATTACH;FMTTYPE=image/png:https://www.gsul.org/wp-content/uploads/Event-cover-Website-1920-×-1080-px-1.png
END:VEVENT
END:VCALENDAR