BEGIN:VCALENDAR
VERSION:2.0
PRODID:-//Greater Sacramento Urban League - ECPv6.15.13//NONSGML v1.0//EN
CALSCALE:GREGORIAN
METHOD:PUBLISH
X-ORIGINAL-URL:https://www.gsul.org
X-WR-CALDESC:Events for Greater Sacramento Urban League
REFRESH-INTERVAL;VALUE=DURATION:PT1H
X-Robots-Tag:noindex
X-PUBLISHED-TTL:PT1H
BEGIN:VTIMEZONE
TZID:UTC
BEGIN:STANDARD
TZOFFSETFROM:+0000
TZOFFSETTO:+0000
TZNAME:UTC
DTSTART:20240101T000000
END:STANDARD
END:VTIMEZONE
BEGIN:VTIMEZONE
TZID:America/Los_Angeles
BEGIN:DAYLIGHT
TZOFFSETFROM:-0800
TZOFFSETTO:-0700
TZNAME:PDT
DTSTART:20240310T100000
END:DAYLIGHT
BEGIN:STANDARD
TZOFFSETFROM:-0700
TZOFFSETTO:-0800
TZNAME:PST
DTSTART:20241103T090000
END:STANDARD
BEGIN:DAYLIGHT
TZOFFSETFROM:-0800
TZOFFSETTO:-0700
TZNAME:PDT
DTSTART:20250309T100000
END:DAYLIGHT
BEGIN:STANDARD
TZOFFSETFROM:-0700
TZOFFSETTO:-0800
TZNAME:PST
DTSTART:20251102T090000
END:STANDARD
BEGIN:DAYLIGHT
TZOFFSETFROM:-0800
TZOFFSETTO:-0700
TZNAME:PDT
DTSTART:20260308T100000
END:DAYLIGHT
BEGIN:STANDARD
TZOFFSETFROM:-0700
TZOFFSETTO:-0800
TZNAME:PST
DTSTART:20261101T090000
END:STANDARD
END:VTIMEZONE
BEGIN:VEVENT
DTSTART;TZID=UTC:20250925T130000
DTEND;TZID=UTC:20250925T150000
DTSTAMP:20260422T073546
CREATED:20250508T220602Z
LAST-MODIFIED:20250711T204158Z
UID:3852-1758805200-1758812400@www.gsul.org
SUMMARY:Job Talk
DESCRIPTION:Greater Sacramento Urban League\, SETA\, and SacramentoWorks present Job Talk. Job Talk is a monthly workshop series for individuals seeking employment. Each month GSUL invites an employer to discuss their current employment opportunities and share insights regarding their hiring procedures and application process. This is your opportunity to speak with recruiters and get hired! Job Talk is held every fourth Thursday of the month from 1:00 pm – 3:00 pm.  \nYou must be registered in CalJobs to attend job talk. If you do not have a CalJOBS User I.D.\, you must first register with CalJOBS to receive an I.D. You can register with CalJOBS here: www.caljobs.ca.gov \nQuestions? Call us at 916-286-8623 or email us at info@gsul.org \nREGISTER NOW\n  \nDates include: \n\n\nMay 29 \nJune 24 \n\n\nJuly 31 \n\n\nAugust 28 \n\n\nSeptember 25 \n\n\nOctober 23
URL:https://www.gsul.org/event/job-talk-7/
LOCATION:GSUL Empowerment Center\, 3725 Marysville Blvd\, Sacramento\, CA\, 95835\, United States
CATEGORIES:Job and Career Center
ATTACH;FMTTYPE=image/jpeg:https://www.gsul.org/wp-content/uploads/AdobeStock_538323988-scaled.jpeg
END:VEVENT
BEGIN:VEVENT
DTSTART;TZID=America/Los_Angeles:20250918T173000
DTEND;TZID=America/Los_Angeles:20250918T190000
DTSTAMP:20260422T073546
CREATED:20250826T224042Z
LAST-MODIFIED:20250903T235503Z
UID:3981-1758216600-1758222000@www.gsul.org
SUMMARY:Project Ready STEM Youth Workshop
DESCRIPTION:Join our Project Ready STEM Workshop Series facilitated by Square Root Academy. Designed to spark curiosity and build confidence in Science\, Technology\, Engineering and Math- this engaging series will offer fun\, interactive activities that connect STEM concepts to real-world applications\, careers\, and everyday life. Open to youth in grades 6th- 8th of all backgrounds.  \nMust attend all dates: September 18th\, September 25th\, October 2nd\, and October 9th\n \nLocation: Greater Sacramento Urban League’s Youth & Families Center (2331 Alhambra Blvd. Sacramento\, CA 95817)\n\nTime: 5:30pm – 7:00pm\n\nRegister Here
URL:https://www.gsul.org/event/project-ready-stem-youth-workshop/
LOCATION:GSUL Youth & Families Center\, 2331 Alhambra Blvd.\, Sacramento\, CA\, 95817\, United States
CATEGORIES:Youth
ATTACH;FMTTYPE=image/png:https://www.gsul.org/wp-content/uploads/STEM-Project-Ready-1.png
END:VEVENT
BEGIN:VEVENT
DTSTART;TZID=UTC:20251023T180000
DTEND;TZID=UTC:20251023T193000
DTSTAMP:20260422T073546
CREATED:20241219T222823Z
LAST-MODIFIED:20251013T205425Z
UID:3680-1761242400-1761247800@www.gsul.org
SUMMARY:Cut to the Chase: Crown Edition – North Sacramento
DESCRIPTION:Cut to the Chase: Crown Edition is a monthly meet-up for Black women to unite and discuss their everyday challenges\, successes\, and life experiences. We invite Black women to join us for encouragement\, counseling\, and support in a small group setting with licensed mental health professionals. \nNorth Sacramento meet-ups are held every fourth Thursday of the month from 6:00 p.m. – 7:30 p.m. at It’s My Hair Salon (3830 Northgate Blvd #100\, Sacramento\, CA 95834). \nDates include: \n\n\n\nFebruary 27\, 2025\nMarch 27\, 2025\nApril 24\, 2025\nMay 22\, 2025\nJune 26\, 2025\nAugust 28\, 2025\nSeptember 25\, 2025\nOctober 23\, 2025\n\n\n\nFor questions\, contact info@gsul.org
URL:https://www.gsul.org/event/cut-to-the-chase-crown-edition-north-sacramento-3/
LOCATION:It’s My Hair Salon\, 3830 Northgate Blvd #100\, Sacramento\, 95834\, United States
CATEGORIES:Cut the Chase Program
ATTACH;FMTTYPE=image/png:https://www.gsul.org/wp-content/uploads/Event-cover-Website-1920-×-1080-px-1.png
END:VEVENT
END:VCALENDAR