BEGIN:VCALENDAR
VERSION:2.0
PRODID:-//Greater Sacramento Urban League - ECPv6.15.13//NONSGML v1.0//EN
CALSCALE:GREGORIAN
METHOD:PUBLISH
X-ORIGINAL-URL:https://www.gsul.org
X-WR-CALDESC:Events for Greater Sacramento Urban League
REFRESH-INTERVAL;VALUE=DURATION:PT1H
X-Robots-Tag:noindex
X-PUBLISHED-TTL:PT1H
BEGIN:VTIMEZONE
TZID:America/Los_Angeles
BEGIN:DAYLIGHT
TZOFFSETFROM:-0800
TZOFFSETTO:-0700
TZNAME:PDT
DTSTART:20250309T100000
END:DAYLIGHT
BEGIN:STANDARD
TZOFFSETFROM:-0700
TZOFFSETTO:-0800
TZNAME:PST
DTSTART:20251102T090000
END:STANDARD
BEGIN:DAYLIGHT
TZOFFSETFROM:-0800
TZOFFSETTO:-0700
TZNAME:PDT
DTSTART:20260308T100000
END:DAYLIGHT
BEGIN:STANDARD
TZOFFSETFROM:-0700
TZOFFSETTO:-0800
TZNAME:PST
DTSTART:20261101T090000
END:STANDARD
BEGIN:DAYLIGHT
TZOFFSETFROM:-0800
TZOFFSETTO:-0700
TZNAME:PDT
DTSTART:20270314T100000
END:DAYLIGHT
BEGIN:STANDARD
TZOFFSETFROM:-0700
TZOFFSETTO:-0800
TZNAME:PST
DTSTART:20271107T090000
END:STANDARD
END:VTIMEZONE
BEGIN:VEVENT
DTSTART;TZID=America/Los_Angeles:20260227T170000
DTEND;TZID=America/Los_Angeles:20260227T190000
DTSTAMP:20260422T043827
CREATED:20260219T222508Z
LAST-MODIFIED:20260219T222508Z
UID:4156-1772211600-1772218800@www.gsul.org
SUMMARY:Teen Dating Violence Workshop
DESCRIPTION:Join allcove Sacramento for an empowering event designed to foster understanding and support featuring: \n\n\nInsightful group discussions\nLearn valuable tools to recognize and prevent dating violence.\nResources from community partners\n\n\nDon’t miss this chance to create a safer\, more informed community. Together\, we can make a difference! Ages 12- 25. \n\nDate: Friday\, February 27\, 2026 \nTime: 5:00 pm – 7:00 pm \n\nLocation: allcove Sacramento (2331 Alhambra Blvd. Sacramento\, CA 95817)\n\nfor any questions\, contact us allcovesacramento@gsul.org.
URL:https://www.gsul.org/event/teen-dating-violence-workshop/
LOCATION:GSUL Youth & Families Center\, 2331 Alhambra Blvd.\, Sacramento\, CA\, 95817\, United States
ATTACH;FMTTYPE=image/png:https://www.gsul.org/wp-content/uploads/allcove-website-cover.png
END:VEVENT
END:VCALENDAR