BEGIN:VCALENDAR
VERSION:2.0
PRODID:-//Greater Sacramento Urban League - ECPv6.15.13//NONSGML v1.0//EN
CALSCALE:GREGORIAN
METHOD:PUBLISH
X-ORIGINAL-URL:https://www.gsul.org
X-WR-CALDESC:Events for Greater Sacramento Urban League
REFRESH-INTERVAL;VALUE=DURATION:PT1H
X-Robots-Tag:noindex
X-PUBLISHED-TTL:PT1H
BEGIN:VTIMEZONE
TZID:America/Los_Angeles
BEGIN:DAYLIGHT
TZOFFSETFROM:-0800
TZOFFSETTO:-0700
TZNAME:PDT
DTSTART:20250309T100000
END:DAYLIGHT
BEGIN:STANDARD
TZOFFSETFROM:-0700
TZOFFSETTO:-0800
TZNAME:PST
DTSTART:20251102T090000
END:STANDARD
BEGIN:DAYLIGHT
TZOFFSETFROM:-0800
TZOFFSETTO:-0700
TZNAME:PDT
DTSTART:20260308T100000
END:DAYLIGHT
BEGIN:STANDARD
TZOFFSETFROM:-0700
TZOFFSETTO:-0800
TZNAME:PST
DTSTART:20261101T090000
END:STANDARD
BEGIN:DAYLIGHT
TZOFFSETFROM:-0800
TZOFFSETTO:-0700
TZNAME:PDT
DTSTART:20270314T100000
END:DAYLIGHT
BEGIN:STANDARD
TZOFFSETFROM:-0700
TZOFFSETTO:-0800
TZNAME:PST
DTSTART:20271107T090000
END:STANDARD
END:VTIMEZONE
BEGIN:VEVENT
DTSTART;TZID=America/Los_Angeles:20260325T170000
DTEND;TZID=America/Los_Angeles:20260325T190000
DTSTAMP:20260424T113127
CREATED:20260305T002230Z
LAST-MODIFIED:20260305T002230Z
UID:4162-1774458000-1774465200@www.gsul.org
SUMMARY:Expungement Clinic
DESCRIPTION:Join the Sacramento County Public Defender’s Office and us for a free expungement clinic\, which can help open doors to jobs\, housing\, and a brighter future. Bring any court papers or case numbers with you.  \n\n\n\nYou Can Get \n\n\n\n\nGet a one-on-one consultation with a legal professional\nLearn if you qualify for expungement or record relief\nReceive help completing forms and paperwork\nGet referrals to additional legal and support services\n\n\n\n\nDate: Wednesday\, March 25th \nTime: 5:00 p.m. – 7:00 p.m. \nLocation: GSUL Youth & Families Center (2331 Alhambra Blvd. Sacramento\, CA 95817) \n\n\n\n  \n\n\n 
URL:https://www.gsul.org/event/expungement-clinic/
LOCATION:GSUL Youth & Families Center\, 2331 Alhambra Blvd.\, Sacramento\, CA\, 95817\, United States
END:VEVENT
END:VCALENDAR