BEGIN:VCALENDAR
VERSION:2.0
PRODID:-//Greater Sacramento Urban League - ECPv6.15.13//NONSGML v1.0//EN
CALSCALE:GREGORIAN
METHOD:PUBLISH
X-WR-CALNAME:Greater Sacramento Urban League
X-ORIGINAL-URL:https://www.gsul.org
X-WR-CALDESC:Events for Greater Sacramento Urban League
REFRESH-INTERVAL;VALUE=DURATION:PT1H
X-Robots-Tag:noindex
X-PUBLISHED-TTL:PT1H
BEGIN:VTIMEZONE
TZID:America/Los_Angeles
BEGIN:DAYLIGHT
TZOFFSETFROM:-0800
TZOFFSETTO:-0700
TZNAME:PDT
DTSTART:20230312T100000
END:DAYLIGHT
BEGIN:STANDARD
TZOFFSETFROM:-0700
TZOFFSETTO:-0800
TZNAME:PST
DTSTART:20231105T090000
END:STANDARD
BEGIN:DAYLIGHT
TZOFFSETFROM:-0800
TZOFFSETTO:-0700
TZNAME:PDT
DTSTART:20240310T100000
END:DAYLIGHT
BEGIN:STANDARD
TZOFFSETFROM:-0700
TZOFFSETTO:-0800
TZNAME:PST
DTSTART:20241103T090000
END:STANDARD
BEGIN:DAYLIGHT
TZOFFSETFROM:-0800
TZOFFSETTO:-0700
TZNAME:PDT
DTSTART:20250309T100000
END:DAYLIGHT
BEGIN:STANDARD
TZOFFSETFROM:-0700
TZOFFSETTO:-0800
TZNAME:PST
DTSTART:20251102T090000
END:STANDARD
END:VTIMEZONE
BEGIN:VEVENT
DTSTART;TZID=America/Los_Angeles:20240111T180000
DTEND;TZID=America/Los_Angeles:20240111T193000
DTSTAMP:20260422T151959
CREATED:20231128T001336Z
LAST-MODIFIED:20231220T013325Z
UID:3120-1704996000-1705001400@www.gsul.org
SUMMARY:Cut to the Chase: New Year Celebration
DESCRIPTION:Let’s kick off the new year together. Join us for a joint session to discuss setting your 2024 mental and physical health goals. Food and drinks will be provided. This is an intentional space created for Black men. Cut to the Chase is a program that seeks to address and reduce the stigma surrounding Black men and therapy\, as well as provide culturally specific mental health resources and support that is uniquely tailored for men of color. \nFor questions\, contact rcobb@gsul.org or 916-286-8646. \n  \nREGISTER NOW
URL:https://www.gsul.org/event/cut-to-the-chase-new-year-celebration/
LOCATION:GSUL Empowerment Center\, 3725 Marysville Blvd\, Sacramento\, CA\, 95835\, United States
CATEGORIES:Cut the Chase Program
ATTACH;FMTTYPE=image/jpeg:https://www.gsul.org/wp-content/uploads/Cut-to-the-Chase-937443994-scaled-e1682629092761.jpg
END:VEVENT
END:VCALENDAR