BEGIN:VCALENDAR
VERSION:2.0
PRODID:-//Greater Sacramento Urban League - ECPv6.15.13//NONSGML v1.0//EN
CALSCALE:GREGORIAN
METHOD:PUBLISH
X-WR-CALNAME:Greater Sacramento Urban League
X-ORIGINAL-URL:https://www.gsul.org
X-WR-CALDESC:Events for Greater Sacramento Urban League
REFRESH-INTERVAL;VALUE=DURATION:PT1H
X-Robots-Tag:noindex
X-PUBLISHED-TTL:PT1H
BEGIN:VTIMEZONE
TZID:UTC
BEGIN:STANDARD
TZOFFSETFROM:+0000
TZOFFSETTO:+0000
TZNAME:UTC
DTSTART:20220101T000000
END:STANDARD
END:VTIMEZONE
BEGIN:VEVENT
DTSTART;TZID=UTC:20230624T100000
DTEND;TZID=UTC:20230624T120000
DTSTAMP:20260421T144959
CREATED:20230609T033417Z
LAST-MODIFIED:20230609T055725Z
UID:1912-1687600800-1687608000@www.gsul.org
SUMMARY:All About ADUs Resource Fair
DESCRIPTION:With inflation and housing costs on the rise throughout the state\, GSUL is providing homeowners with resources to fight displacement. \nAll About ADUs Resource Fair is where you can learn about Accessory Dwelling Units (ADUs) from the pros like YouTuber Ryan O’Connor. \nThe resource fair is Saturday\, June 24th\, from 10:00 A.M. to 12:00 P.M. at the Greater Sacramento Urban League Empowerment Center. \nRegister for free!  \n 
URL:https://www.gsul.org/event/all-about-adus-resource-fair/
LOCATION:GSUL Empowerment Center\, 3725 Marysville Blvd\, Sacramento\, CA\, 95835\, United States
ATTACH;FMTTYPE=image/png:https://www.gsul.org/wp-content/uploads/Website-All-About-ADUs-Resource-Fair.png
END:VEVENT
BEGIN:VEVENT
DTSTART;TZID=UTC:20230622T130000
DTEND;TZID=UTC:20230622T150000
DTSTAMP:20260421T144959
CREATED:20230525T234632Z
LAST-MODIFIED:20230811T172652Z
UID:1829-1687438800-1687446000@www.gsul.org
SUMMARY:Job Talk
DESCRIPTION:Greater Sacramento Urban League\, SETA\, and SacramentoWorks present Job Talk. Job Talk is a monthly workshop series for individuals seeking employment. Each month GSUL invites an employer to discuss their current employment opportunities and share insights regarding their hiring procedures and application process. \nThis is your opportunity to speak with recruiters and get hired! Job Talk is held every fourth Thursday of the month from 1:00 pm – 3:00 pm.  \nDates include: \n\n\n\nMay 25\, 2023\nJune 22\, 2023\nJuly 27\, 2023\nAugust 24\, 2023\nSeptember 28\, 2023\nOctober 26\, 2023\n\n\n\nQuestions? Call us at 916-286-8623 \nREGISTER NOW
URL:https://www.gsul.org/event/job-talk-2/
LOCATION:GSUL Empowerment Center\, 3725 Marysville Blvd\, Sacramento\, CA\, 95835\, United States
CATEGORIES:Job and Career Center
ATTACH;FMTTYPE=image/jpeg:https://www.gsul.org/wp-content/uploads/AdobeStock_538323988-scaled.jpeg
END:VEVENT
BEGIN:VEVENT
DTSTART;TZID=UTC:20230617T080000
DTEND;TZID=UTC:20230617T080000
DTSTAMP:20260421T144959
CREATED:20230609T010552Z
LAST-MODIFIED:20230609T010552Z
UID:1906-1686988800-1686988800@www.gsul.org
SUMMARY:Juneteenth Jubilee 2.5-mile Run/Walk
DESCRIPTION:Join us for our inaugural Juneteenth Jubilee 2.5-mile Run/Walk hosted by Sacramento Juneteenth in partnership with Black Men Run and Fleet Feet. The walk honors the 2 years it took for slaves to know they were free. \nThe 2.5-mile run/walk will be held on Saturday\, June 17\, 2023\, at William Land Park starting at 8:00 A.M. \nFree to Register
URL:https://www.gsul.org/event/juneteenth-jubilee-2-5-mile-run-walk/
LOCATION:William Land Park\, 3800 W Land Park Dr\, Sacramento\, CA\, 95822\, United States
ATTACH;FMTTYPE=image/png:https://www.gsul.org/wp-content/uploads/GSUL-2023-Juneteenth-2.5-mile-RunWalk-1.png
END:VEVENT
BEGIN:VEVENT
DTSTART;TZID=UTC:20230616T150000
DTEND;TZID=UTC:20230616T190000
DTSTAMP:20260421T144959
CREATED:20230606T234833Z
LAST-MODIFIED:20230606T235322Z
UID:1843-1686927600-1686942000@www.gsul.org
SUMMARY:Juneteenth Celebration in Rancho Cordova
DESCRIPTION:Join us for a Juneteenth Celebration in Rancho Cordova on Friday\, June 16th\, 2023 from 3:00 p.m. – 7:00 p.m. at Hagan Community Park located at 2197 Chase Dr\, Rancho Cordova\, CA 95670.  \nThe event includes FREE music and performances by local artists/companies. There will be a Black-owned marketplace\, musical guests\, a DJ\, dance teams\, Spoken Word poets\, food\, etc. Admission is FREE. \nBring your chair and blanket. Come early\, food is served while supplies last. Please invite your friends and your neighbors to join the celebration.  \nRegister now to save your spot and for the chance to win a $100 gift card. 
URL:https://www.gsul.org/event/juneteenth-celebration-in-ranchocordova/
LOCATION:Hagan Park\, 2197 Chase Dr\, Rancho Cordova\, CA\, 95670\, United States
ATTACH;FMTTYPE=image/png:https://www.gsul.org/wp-content/uploads/juneteenth.png
END:VEVENT
BEGIN:VEVENT
DTSTART;TZID=UTC:20230609T080000
DTEND;TZID=UTC:20230609T160000
DTSTAMP:20260421T144959
CREATED:20230519T055358Z
LAST-MODIFIED:20230520T001352Z
UID:1780-1686297600-1686326400@www.gsul.org
SUMMARY:Keys to Homeownership
DESCRIPTION:Keys to HomeOwnership is a live 8-hour homebuyer’s education course\, offered via Zoom (link will be sent prior to the class). This course provides home-buying insight for home-buyers\, who need to complete an 8-hour Homebuyer Education and Counseling Course. Greater Sacramento Urban League staff will walk you through the steps of purchasing a home including budgeting for a home\, credit checks\, the lending process\, homeowners insurance\, closing costs\, and much more. Upon completion of the class\, participants will be provided a homebuyer’s education certificate.\n\n\nNOTE: If you are completing this course as a requirement for a downpayment assistance program\, please double-check with your lender to make sure this course is accepted for your specific loan requirements. \nRegister Now \nQuestions? Contact us at housing@gsul.org or 916-286-8651.
URL:https://www.gsul.org/event/keys-to-homeownership/
LOCATION:CA
CATEGORIES:Housing
ATTACH;FMTTYPE=image/jpeg:https://www.gsul.org/wp-content/uploads/pexels-rdne-stock-project-8293778-scaled.jpg
END:VEVENT
BEGIN:VEVENT
DTSTART;TZID=UTC:20230608T180000
DTEND;TZID=UTC:20230608T193000
DTSTAMP:20260421T144959
CREATED:20230524T030403Z
LAST-MODIFIED:20230901T165017Z
UID:1822-1686247200-1686252600@www.gsul.org
SUMMARY:Cut to the Chase - North Sacramento
DESCRIPTION:Cut to the Chase is a monthly meet-up for Black men to gather and discuss the everyday challenges and issues they face. We invite men to join us for encouragement\, counseling\, and support in a small group setting with licensed mental health professionals. Cut to the Chase is a program that seeks to address and reduce the stigma surrounding Black men and therapy\, as well as provide culturally specific mental health resources and support that is uniquely tailored for men of color. \nNorth Sacramento meet-ups are held every second Thursday of the month from 6:00 p.m. – 7:30 p.m. at Five Starr Fades (1332 Del Paso Blvd. Sacramento\, CA 95825). \nDates include: \n\nJune 8\, 2023\nJuly 13\, 2023\nAugust 10\, 2023\nSeptember 14\, 2023\nOctober 12\, 2023\nNovember 9\, 2023\nDecember 14\, 2023\n\nFor questions\, contact rcob@gsul.org or 916-286-8646. \n\nREGISTER NOW
URL:https://www.gsul.org/event/cut-to-the-chase-north-sacramento-2/
LOCATION:Five Starr Fades\, 1332 Del Paso Blvd\, Sacramento\, CA\, 95825\, United States
CATEGORIES:Cut the Chase Program
ATTACH;FMTTYPE=image/jpeg:https://www.gsul.org/wp-content/uploads/Cut-to-the-Chase-937443994-scaled-e1682629092761.jpg
END:VEVENT
BEGIN:VEVENT
DTSTART;TZID=UTC:20230601T180000
DTEND;TZID=UTC:20230601T193000
DTSTAMP:20260421T144959
CREATED:20230524T025412Z
LAST-MODIFIED:20230901T165101Z
UID:1806-1685642400-1685647800@www.gsul.org
SUMMARY:Cut to the Chase – South Sacramento
DESCRIPTION:Cut to the Chase is a monthly meet-up for Black men to gather and discuss the everyday challenges and issues they face. We invite men to join us for encouragement\, counseling and support in a small group setting with licensed mental health professionals. Cut to the Chase is a program that seeks to address and reduce the stigma surrounding Black men and therapy\, as well as provide culturally specific mental health resources and support that is uniquely tailored for men of color. \nSouth Sacramento meet-ups are held every first Thursday of the month from 6:00 p.m. – 7:30 p.m. at Tapers Barber Shop (3310 Martin Luther King Jr Blvd.\, Sacramento\, CA 95817). \nDates include: \n\n\n\nJune 1\, 2023\nJuly 6\, 2023\nAugust 3\, 2023\nSeptember 7\, 2023\nOctober 5\, 2023\nNovember 2\, 2023\nDecember 7\, 2023\n\n\n\nFor questions\, contact rcob@gsul.org or 916-286-8646. \nREGISTER NOW
URL:https://www.gsul.org/event/cut-to-the-chase-south-sacramento/
LOCATION:Tapers Barber Shop\, 3310 Martin Luther King Jr Blvd.\, Sacramento\, CA\, 95817
CATEGORIES:Cut the Chase Program
ATTACH;FMTTYPE=image/jpeg:https://www.gsul.org/wp-content/uploads/Cut-to-the-Chase-937443994-scaled-e1682629092761.jpg
END:VEVENT
BEGIN:VEVENT
DTSTART;TZID=UTC:20230525T180000
DTEND;TZID=UTC:20230525T190000
DTSTAMP:20260421T144959
CREATED:20230524T025942Z
LAST-MODIFIED:20230525T234926Z
UID:1817-1685037600-1685041200@www.gsul.org
SUMMARY:Cut to the Chase - North Sacramento
DESCRIPTION:Cut to the Chase is a monthly meet-up for Black men to gather and discuss the everyday challenges and issues they face. We invite men to join us for encouragement\, counseling\, and support in a small group setting with licensed mental health professionals. Cut to the Chase is a program that seeks to address and reduce the stigma surrounding Black men and therapy\, as well as provide culturally specific mental health resources and support that is uniquely tailored for men of color. \nNorth Sacramento meet-ups are held every second Thursday of the month from 6:00 p.m. – 7:00 p.m. at Five Starr Fades (1332 Del Paso Blvd. Sacramento\, CA 95825). \nDates include: \n\nMay 25\, 2023\nJune 8\, 2023\nJuly 13\, 2023\nAugust 10\, 2023\nSeptember 14\, 2023\nOctober 12\, 2023\nNovember 9\, 2023\nDecember 14\, 2023\n\nRegister Now \nFor questions\, contact rcob@gsul.org or 916-286-8646.
URL:https://www.gsul.org/event/cut-to-the-chase-north-sacramento/
LOCATION:Five Starr Fades\, 1332 Del Paso Blvd\, Sacramento\, CA\, 95825\, United States
CATEGORIES:Cut the Chase Program
ATTACH;FMTTYPE=image/jpeg:https://www.gsul.org/wp-content/uploads/Cut-to-the-Chase-937443994-scaled-e1682629092761.jpg
END:VEVENT
BEGIN:VEVENT
DTSTART;TZID=UTC:20230525T130000
DTEND;TZID=UTC:20230525T150000
DTSTAMP:20260421T144959
CREATED:20230524T015904Z
LAST-MODIFIED:20230525T235218Z
UID:1797-1685019600-1685026800@www.gsul.org
SUMMARY:Job Talk
DESCRIPTION:Greater Sacramento Urban League and SETA present Job Talk. Job Talk is a monthly workshop series for individuals seeking employment. Each month GSUL invites an employer to discuss their current employment opportunities and share insights regarding their hiring procedures and application process. \nThis is your opportunity to speak with recruiters and get hired! Job Talk is held every fourth Thursday of the month from 1:00 pm – 3:00 pm.  \nDates include: \n\nMay 25\, 2023\nJune 22\, 2023\nJuly 27\, 2023\nAugust 24\, 2023\nSeptember 28\, 2023\nOctober 26\, 2023\n\nRegister Now \nQuestions? Call us at 916-286-8623
URL:https://www.gsul.org/event/job-talk/
LOCATION:GSUL Empowerment Center\, 3725 Marysville Blvd\, Sacramento\, CA\, 95835\, United States
CATEGORIES:Job and Career Center
ATTACH;FMTTYPE=image/jpeg:https://www.gsul.org/wp-content/uploads/AdobeStock_538323988-scaled.jpeg
END:VEVENT
BEGIN:VEVENT
DTSTART;TZID=UTC:20230517T120000
DTEND;TZID=UTC:20230517T170000
DTSTAMP:20260421T144959
CREATED:20230318T001333Z
LAST-MODIFIED:20230511T084314Z
UID:336-1684324800-1684342800@www.gsul.org
SUMMARY:Youth Summer Job Fair
DESCRIPTION:Need a summer job? Meet with employers looking to fill full-time\, part-time and seasonal positions. This is your opportunity to connect\, apply and interview so you can get paid this summer. \nThe job fair will include: \n\nOn-the-spot interviews\nJob offers\nNetworking opportunities\nResume building advice\nInterview workshops\nAnd more!\n\nCome dressed to impress and bring printed copies of your resume for employers. Don’t have a resume or need help preparing for your interview? Workshops will be available on Thursday\, May 11th\, and Monday\, May 15th to assist with resume writing and interview prep. For questions\, contact Dr. Del Meka Wyatt at dwyatt@gsul.org. \nRegister Here: https://www.eventbrite.com/e/youth-summer-job-fair-tickets-625692080857
URL:https://www.gsul.org/event/youth-summer-job-fair/
LOCATION:GSUL Empowerment Center\, 3725 Marysville Blvd\, Sacramento\, CA\, 95835\, United States
CATEGORIES:Youth
ATTACH;FMTTYPE=image/jpeg:https://www.gsul.org/wp-content/uploads/Youth-Summer-Job-Fair_AdobeStock_454362082-scaled.jpeg
END:VEVENT
END:VCALENDAR