BEGIN:VCALENDAR
VERSION:2.0
PRODID:-//Greater Sacramento Urban League - ECPv6.15.13//NONSGML v1.0//EN
CALSCALE:GREGORIAN
METHOD:PUBLISH
X-ORIGINAL-URL:https://www.gsul.org
X-WR-CALDESC:Events for Greater Sacramento Urban League
REFRESH-INTERVAL;VALUE=DURATION:PT1H
X-Robots-Tag:noindex
X-PUBLISHED-TTL:PT1H
BEGIN:VTIMEZONE
TZID:UTC
BEGIN:STANDARD
TZOFFSETFROM:+0000
TZOFFSETTO:+0000
TZNAME:UTC
DTSTART:20220101T000000
END:STANDARD
END:VTIMEZONE
BEGIN:VTIMEZONE
TZID:America/Los_Angeles
BEGIN:DAYLIGHT
TZOFFSETFROM:-0800
TZOFFSETTO:-0700
TZNAME:PDT
DTSTART:20220313T100000
END:DAYLIGHT
BEGIN:STANDARD
TZOFFSETFROM:-0700
TZOFFSETTO:-0800
TZNAME:PST
DTSTART:20221106T090000
END:STANDARD
BEGIN:DAYLIGHT
TZOFFSETFROM:-0800
TZOFFSETTO:-0700
TZNAME:PDT
DTSTART:20230312T100000
END:DAYLIGHT
BEGIN:STANDARD
TZOFFSETFROM:-0700
TZOFFSETTO:-0800
TZNAME:PST
DTSTART:20231105T090000
END:STANDARD
BEGIN:DAYLIGHT
TZOFFSETFROM:-0800
TZOFFSETTO:-0700
TZNAME:PDT
DTSTART:20240310T100000
END:DAYLIGHT
BEGIN:STANDARD
TZOFFSETFROM:-0700
TZOFFSETTO:-0800
TZNAME:PST
DTSTART:20241103T090000
END:STANDARD
END:VTIMEZONE
BEGIN:VEVENT
DTSTART;TZID=UTC:20230601T180000
DTEND;TZID=UTC:20230601T193000
DTSTAMP:20260421T023256
CREATED:20230524T025412Z
LAST-MODIFIED:20230901T165101Z
UID:1806-1685642400-1685647800@www.gsul.org
SUMMARY:Cut to the Chase – South Sacramento
DESCRIPTION:Cut to the Chase is a monthly meet-up for Black men to gather and discuss the everyday challenges and issues they face. We invite men to join us for encouragement\, counseling and support in a small group setting with licensed mental health professionals. Cut to the Chase is a program that seeks to address and reduce the stigma surrounding Black men and therapy\, as well as provide culturally specific mental health resources and support that is uniquely tailored for men of color. \nSouth Sacramento meet-ups are held every first Thursday of the month from 6:00 p.m. – 7:30 p.m. at Tapers Barber Shop (3310 Martin Luther King Jr Blvd.\, Sacramento\, CA 95817). \nDates include: \n\n\n\nJune 1\, 2023\nJuly 6\, 2023\nAugust 3\, 2023\nSeptember 7\, 2023\nOctober 5\, 2023\nNovember 2\, 2023\nDecember 7\, 2023\n\n\n\nFor questions\, contact rcob@gsul.org or 916-286-8646. \nREGISTER NOW
URL:https://www.gsul.org/event/cut-to-the-chase-south-sacramento/
LOCATION:Tapers Barber Shop\, 3310 Martin Luther King Jr Blvd.\, Sacramento\, CA\, 95817
CATEGORIES:Cut the Chase Program
ATTACH;FMTTYPE=image/jpeg:https://www.gsul.org/wp-content/uploads/Cut-to-the-Chase-937443994-scaled-e1682629092761.jpg
END:VEVENT
BEGIN:VEVENT
DTSTART;TZID=America/Los_Angeles:20231208T080000
DTEND;TZID=America/Los_Angeles:20231208T160000
DTSTAMP:20260421T023256
CREATED:20230829T205052Z
LAST-MODIFIED:20230919T220343Z
UID:2489-1702022400-1702051200@www.gsul.org
SUMMARY:Keys to HomeOwnership
DESCRIPTION:Keys to HomeOwnership is a live 8-hour homebuyer’s education course\, offered via Zoom (link will be sent prior to the class). This course provides home-buying insight for home-buyers\, who need to complete an 8-hour Homebuyer Education and Counseling Course. Greater Sacramento Urban League staff will walk you through the steps of purchasing a home including budgeting for a home\, credit checks\, the lending process\, homeowners insurance\, closing costs\, and much more. Upon completion of the class\, participants will be provided a homebuyer’s education certificate.\n\n\nNOTE: If you are completing this course as a requirement for a downpayment assistance program\, please double-check with your lender to make sure this course is accepted for your specific loan requirements. \nQuestions? Contact us at housing@gsul.org or 916-286-8651. \nREGISTER NOW
URL:https://www.gsul.org/event/keys-to-homeownership-7/
LOCATION:CA
CATEGORIES:Housing
ATTACH;FMTTYPE=image/jpeg:https://www.gsul.org/wp-content/uploads/pexels-rdne-stock-project-8293778-scaled.jpg
END:VEVENT
BEGIN:VEVENT
DTSTART;TZID=UTC:20230608T180000
DTEND;TZID=UTC:20230608T193000
DTSTAMP:20260421T023256
CREATED:20230524T030403Z
LAST-MODIFIED:20230901T165017Z
UID:1822-1686247200-1686252600@www.gsul.org
SUMMARY:Cut to the Chase - North Sacramento
DESCRIPTION:Cut to the Chase is a monthly meet-up for Black men to gather and discuss the everyday challenges and issues they face. We invite men to join us for encouragement\, counseling\, and support in a small group setting with licensed mental health professionals. Cut to the Chase is a program that seeks to address and reduce the stigma surrounding Black men and therapy\, as well as provide culturally specific mental health resources and support that is uniquely tailored for men of color. \nNorth Sacramento meet-ups are held every second Thursday of the month from 6:00 p.m. – 7:30 p.m. at Five Starr Fades (1332 Del Paso Blvd. Sacramento\, CA 95825). \nDates include: \n\nJune 8\, 2023\nJuly 13\, 2023\nAugust 10\, 2023\nSeptember 14\, 2023\nOctober 12\, 2023\nNovember 9\, 2023\nDecember 14\, 2023\n\nFor questions\, contact rcob@gsul.org or 916-286-8646. \n\nREGISTER NOW
URL:https://www.gsul.org/event/cut-to-the-chase-north-sacramento-2/
LOCATION:Five Starr Fades\, 1332 Del Paso Blvd\, Sacramento\, CA\, 95825\, United States
CATEGORIES:Cut the Chase Program
ATTACH;FMTTYPE=image/jpeg:https://www.gsul.org/wp-content/uploads/Cut-to-the-Chase-937443994-scaled-e1682629092761.jpg
END:VEVENT
BEGIN:VEVENT
DTSTART;TZID=America/Los_Angeles:20231216T110000
DTEND;TZID=America/Los_Angeles:20231216T150000
DTSTAMP:20260421T023256
CREATED:20231201T201458Z
LAST-MODIFIED:20231201T201532Z
UID:3132-1702724400-1702738800@www.gsul.org
SUMMARY:Jingle Mingle
DESCRIPTION:Greater Sacramento Urban League is hosting a Drive Thru Holiday Toy Giveaway on Saturday\, December 16th at GSUL Youth & Families Center. Registration is a must and only one submission per household is allowed. so secure your spot now to receive gifts for your family. This event will prioritize families in the following zip codes: 95817\, 95818\, 95815. \n\nFor questions or more information\, contact 916-287-9045.\n\n\nREGISTER NOW
URL:https://www.gsul.org/event/jingle-mingle/
LOCATION:GSUL Youth & Families Center\, 2331 Alhambra Blvd.\, Sacramento\, CA\, 95817\, United States
END:VEVENT
BEGIN:VEVENT
DTSTART;TZID=UTC:20260121T100000
DTEND;TZID=UTC:20260121T140000
DTSTAMP:20260421T023256
CREATED:20230524T031536Z
LAST-MODIFIED:20251230T215618Z
UID:1824-1768989600-1769004000@www.gsul.org
SUMMARY:Community Health Clinic
DESCRIPTION:Greater Sacramento Urban League hosts a free monthly Community Health Clinic every 3rd Wednesday from 10:00 am to 2:00 pm at GSUL’s Empowerment Center in Del Paso Heights. \nLocal health providers offer health screenings as well as educational materials and resources. No appointment is needed\, drop in to receive services. \nFor questions\, contact us at info@gsul.org or 916-286-8600.
URL:https://www.gsul.org/event/community-health-clinic/
LOCATION:GSUL Empowerment Center\, 3725 Marysville Blvd\, Sacramento\, CA\, 95835\, United States
CATEGORIES:Health
ATTACH;FMTTYPE=image/jpeg:https://www.gsul.org/wp-content/uploads/Health-Clinic_Opt-1_AdobeStock_238730671-1-e1685033775993.jpeg
END:VEVENT
END:VCALENDAR